BEGIN:VCALENDAR
VERSION:2.0
PRODID:-//Sunset Dunes PEI HOA - ECPv5.6.0//NONSGML v1.0//EN
CALSCALE:GREGORIAN
METHOD:PUBLISH
X-WR-CALNAME:Sunset Dunes PEI HOA
X-ORIGINAL-URL:https://www.sunsetdunespei.com
X-WR-CALDESC:Events for Sunset Dunes PEI HOA
BEGIN:VTIMEZONE
TZID:America/Halifax
BEGIN:DAYLIGHT
TZOFFSETFROM:-0400
TZOFFSETTO:-0300
TZNAME:ADT
DTSTART:20230312T060000
END:DAYLIGHT
BEGIN:STANDARD
TZOFFSETFROM:-0300
TZOFFSETTO:-0400
TZNAME:AST
DTSTART:20231105T050000
END:STANDARD
TZID:UTC
BEGIN:STANDARD
TZOFFSETFROM:+0000
TZOFFSETTO:+0000
TZNAME:UTC
DTSTART:20230101T000000
END:STANDARD
END:VTIMEZONE
BEGIN:VEVENT
DTSTART;TZID=America/Halifax:20230808T183000
DTEND;TZID=America/Halifax:20230808T203000
DTSTAMP:20260425T113223
CREATED:20221101T223330Z
LAST-MODIFIED:20221101T223330Z
UID:1302-1691519400-1691526600@www.sunsetdunespei.com
SUMMARY:Sunset Dunes PEI HOA Board Meeting
DESCRIPTION:
URL:https://www.sunsetdunespei.com/event/sunset-dunes-pei-hoa-board-meeting-21/
LOCATION:Zoom
END:VEVENT
BEGIN:VEVENT
DTSTART;VALUE=DATE:20230810
DTEND;VALUE=DATE:20230811
DTSTAMP:20260425T113223
CREATED:20230628T194843Z
LAST-MODIFIED:20230628T194843Z
UID:1386-1691625600-1691711999@www.sunsetdunespei.com
SUMMARY:HOA Board of Directors Campaign Period and Voting Period Ends
DESCRIPTION:
URL:https://www.sunsetdunespei.com/event/hoa-board-of-directors-campaign-period-and-voting-period-ends/
END:VEVENT
BEGIN:VEVENT
DTSTART;TZID=America/Halifax:20230812T143000
DTEND;TZID=America/Halifax:20230812T163000
DTSTAMP:20260425T113223
CREATED:20230611T170125Z
LAST-MODIFIED:20230611T170224Z
UID:1373-1691850600-1691857800@www.sunsetdunespei.com
SUMMARY:Sunset Dunes PEI HOA Annual General Meeting
DESCRIPTION:
URL:https://www.sunsetdunespei.com/event/sunset-dunes-pei-hoa-annual-general-meeting-2/
END:VEVENT
BEGIN:VEVENT
DTSTART;TZID=America/Halifax:20230826T150000
DTEND;TZID=America/Halifax:20230826T180000
DTSTAMP:20260425T113223
CREATED:20230712T114633Z
LAST-MODIFIED:20230826T155639Z
UID:1398-1693062000-1693072800@www.sunsetdunespei.com
SUMMARY:Canceled:  Summer Social
DESCRIPTION:The summer social is canceled due to rain over the weekend.  Have a great rest of the summer!
URL:https://www.sunsetdunespei.com/event/summer-social/
LOCATION:Stark’s\, 273 Campbells Way\, Cape Traverse\, PEI\, C0B 1X0\, Canada
END:VEVENT
END:VCALENDAR