BEGIN:VCALENDAR
VERSION:2.0
PRODID:-//Sunset Dunes PEI HOA - ECPv5.6.0//NONSGML v1.0//EN
CALSCALE:GREGORIAN
METHOD:PUBLISH
X-WR-CALNAME:Sunset Dunes PEI HOA
X-ORIGINAL-URL:https://www.sunsetdunespei.com
X-WR-CALDESC:Events for Sunset Dunes PEI HOA
BEGIN:VTIMEZONE
TZID:UTC
BEGIN:STANDARD
TZOFFSETFROM:+0000
TZOFFSETTO:+0000
TZNAME:UTC
DTSTART:20230101T000000
END:STANDARD
TZID:America/Halifax
BEGIN:DAYLIGHT
TZOFFSETFROM:-0400
TZOFFSETTO:-0300
TZNAME:ADT
DTSTART:20230312T060000
END:DAYLIGHT
BEGIN:STANDARD
TZOFFSETFROM:-0300
TZOFFSETTO:-0400
TZNAME:AST
DTSTART:20231105T050000
END:STANDARD
END:VTIMEZONE
BEGIN:VEVENT
DTSTART;VALUE=DATE:20230701
DTEND;VALUE=DATE:20230702
DTSTAMP:20260425T130912
CREATED:20230628T194652Z
LAST-MODIFIED:20230628T194652Z
UID:1380-1688169600-1688255999@www.sunsetdunespei.com
SUMMARY:HOA Board of Directors Nomination Period Starts
DESCRIPTION:
URL:https://www.sunsetdunespei.com/event/hoa-board-of-directors-nomination-period-starts/
END:VEVENT
BEGIN:VEVENT
DTSTART;TZID=America/Halifax:20230711T183000
DTEND;TZID=America/Halifax:20230711T203000
DTSTAMP:20260425T130912
CREATED:20221101T223250Z
LAST-MODIFIED:20221101T223250Z
UID:1300-1689100200-1689107400@www.sunsetdunespei.com
SUMMARY:Sunset Dunes PEI HOA Board Meeting
DESCRIPTION:
URL:https://www.sunsetdunespei.com/event/sunset-dunes-pei-hoa-board-meeting-20/
LOCATION:Zoom
END:VEVENT
BEGIN:VEVENT
DTSTART;VALUE=DATE:20230715
DTEND;VALUE=DATE:20230716
DTSTAMP:20260425T130912
CREATED:20230628T194719Z
LAST-MODIFIED:20230628T194719Z
UID:1382-1689379200-1689465599@www.sunsetdunespei.com
SUMMARY:HOA Board of Directors Nomination Period Ends
DESCRIPTION:
URL:https://www.sunsetdunespei.com/event/hoa-board-of-directors-nomination-period-ends/
END:VEVENT
BEGIN:VEVENT
DTSTART;VALUE=DATE:20230717
DTEND;VALUE=DATE:20230718
DTSTAMP:20260425T130912
CREATED:20230628T194756Z
LAST-MODIFIED:20230628T194756Z
UID:1384-1689552000-1689638399@www.sunsetdunespei.com
SUMMARY:HOA Board of Directors Campaign Period Starts
DESCRIPTION:
URL:https://www.sunsetdunespei.com/event/hoa-board-of-directors-campaign-period-starts/
END:VEVENT
BEGIN:VEVENT
DTSTART;VALUE=DATE:20230724
DTEND;VALUE=DATE:20230725
DTSTAMP:20260425T130912
CREATED:20230628T194911Z
LAST-MODIFIED:20230628T194911Z
UID:1388-1690156800-1690243199@www.sunsetdunespei.com
SUMMARY:HOA Board of Directors Voting Period Starts
DESCRIPTION:
URL:https://www.sunsetdunespei.com/event/hoa-board-of-directors-voting-period-starts/
END:VEVENT
END:VCALENDAR