BEGIN:VCALENDAR
VERSION:2.0
PRODID:-//Sunset Dunes PEI HOA - ECPv5.6.0//NONSGML v1.0//EN
CALSCALE:GREGORIAN
METHOD:PUBLISH
X-WR-CALNAME:Sunset Dunes PEI HOA
X-ORIGINAL-URL:https://www.sunsetdunespei.com
X-WR-CALDESC:Events for Sunset Dunes PEI HOA
BEGIN:VTIMEZONE
TZID:America/Halifax
BEGIN:DAYLIGHT
TZOFFSETFROM:-0400
TZOFFSETTO:-0300
TZNAME:ADT
DTSTART:20230312T060000
END:DAYLIGHT
BEGIN:STANDARD
TZOFFSETFROM:-0300
TZOFFSETTO:-0400
TZNAME:AST
DTSTART:20231105T050000
END:STANDARD
BEGIN:DAYLIGHT
TZOFFSETFROM:-0400
TZOFFSETTO:-0300
TZNAME:ADT
DTSTART:20240310T060000
END:DAYLIGHT
BEGIN:STANDARD
TZOFFSETFROM:-0300
TZOFFSETTO:-0400
TZNAME:AST
DTSTART:20241103T050000
END:STANDARD
BEGIN:DAYLIGHT
TZOFFSETFROM:-0400
TZOFFSETTO:-0300
TZNAME:ADT
DTSTART:20250309T060000
END:DAYLIGHT
BEGIN:STANDARD
TZOFFSETFROM:-0300
TZOFFSETTO:-0400
TZNAME:AST
DTSTART:20251102T050000
END:STANDARD
BEGIN:DAYLIGHT
TZOFFSETFROM:-0400
TZOFFSETTO:-0300
TZNAME:ADT
DTSTART:20260308T060000
END:DAYLIGHT
BEGIN:STANDARD
TZOFFSETFROM:-0300
TZOFFSETTO:-0400
TZNAME:AST
DTSTART:20261101T050000
END:STANDARD
TZID:UTC
BEGIN:STANDARD
TZOFFSETFROM:+0000
TZOFFSETTO:+0000
TZNAME:UTC
DTSTART:20240101T000000
END:STANDARD
END:VTIMEZONE
BEGIN:VEVENT
DTSTART;TZID=America/Halifax:20231114T183000
DTEND;TZID=America/Halifax:20231114T183000
DTSTAMP:20260425T115045
CREATED:20221101T223528Z
LAST-MODIFIED:20221101T223528Z
UID:1308-1699986600-1699986600@www.sunsetdunespei.com
SUMMARY:Sunset Dunes PEI HOA Board Meeting
DESCRIPTION:
URL:https://www.sunsetdunespei.com/event/sunset-dunes-pei-hoa-board-meeting-24/
LOCATION:Zoom
END:VEVENT
BEGIN:VEVENT
DTSTART;TZID=America/Halifax:20231212T183000
DTEND;TZID=America/Halifax:20231212T203000
DTSTAMP:20260425T115045
CREATED:20221101T223624Z
LAST-MODIFIED:20221101T223624Z
UID:1310-1702405800-1702413000@www.sunsetdunespei.com
SUMMARY:Sunset Dunes PEI HOA Board Meeting
DESCRIPTION:
URL:https://www.sunsetdunespei.com/event/sunset-dunes-pei-hoa-board-meeting-25/
LOCATION:Zoom
END:VEVENT
BEGIN:VEVENT
DTSTART;TZID=America/Halifax:20240227T183000
DTEND;TZID=America/Halifax:20240227T203000
DTSTAMP:20260425T115045
CREATED:20240111T201043Z
LAST-MODIFIED:20240111T201043Z
UID:1494-1709058600-1709065800@www.sunsetdunespei.com
SUMMARY:Sunset Dunes PEI HOA Board Meeting
DESCRIPTION:
URL:https://www.sunsetdunespei.com/event/sunset-dunes-pei-hoa-board-meeting-27/
LOCATION:Zoom
END:VEVENT
BEGIN:VEVENT
DTSTART;VALUE=DATE:20240301
DTEND;VALUE=DATE:20240302
DTSTAMP:20260425T115045
CREATED:20220423T192535Z
LAST-MODIFIED:20220423T192535Z
UID:1190-1709251200-1709337599@www.sunsetdunespei.com
SUMMARY:Sunset Dunes PEI Traffic Calming Survey To Launch
DESCRIPTION:
URL:https://www.sunsetdunespei.com/event/sunset-dunes-pei-traffic-calming-survey-to-launch/
END:VEVENT
BEGIN:VEVENT
DTSTART;TZID=America/Halifax:20240514T183000
DTEND;TZID=America/Halifax:20240514T203000
DTSTAMP:20260425T115045
CREATED:20240111T201211Z
LAST-MODIFIED:20240111T201211Z
UID:1496-1715711400-1715718600@www.sunsetdunespei.com
SUMMARY:Sunset Dunes PEI HOA Board Meeting
DESCRIPTION:
URL:https://www.sunsetdunespei.com/event/sunset-dunes-pei-hoa-board-meeting-28/
LOCATION:Zoom
END:VEVENT
BEGIN:VEVENT
DTSTART;TZID=America/Halifax:20240709T183000
DTEND;TZID=America/Halifax:20240709T203000
DTSTAMP:20260425T115045
CREATED:20240111T201311Z
LAST-MODIFIED:20240111T201311Z
UID:1498-1720549800-1720557000@www.sunsetdunespei.com
SUMMARY:Sunset Dunes PEI HOA Board Meeting
DESCRIPTION:
URL:https://www.sunsetdunespei.com/event/sunset-dunes-pei-hoa-board-meeting-29/
LOCATION:Zoom
END:VEVENT
BEGIN:VEVENT
DTSTART;TZID=America/Halifax:20240811T143000
DTEND;TZID=America/Halifax:20240811T163000
DTSTAMP:20260425T115045
CREATED:20240610T154542Z
LAST-MODIFIED:20240610T154542Z
UID:1531-1723386600-1723393800@www.sunsetdunespei.com
SUMMARY:2024 Annual General Meeting
DESCRIPTION:
URL:https://www.sunsetdunespei.com/event/2024-annual-general-meeting/
LOCATION:Zoom
ORGANIZER;CN="Kristin%20Arnold":MAILTO:sunsetdunespeihoa@gmail.com
END:VEVENT
BEGIN:VEVENT
DTSTART;TZID=America/Halifax:20240820T183000
DTEND;TZID=America/Halifax:20240820T203000
DTSTAMP:20260425T115045
CREATED:20240812T140741Z
LAST-MODIFIED:20240812T140741Z
UID:1573-1724178600-1724185800@www.sunsetdunespei.com
SUMMARY:Sunset Dunes PEI HOA Board Meeting
DESCRIPTION:
URL:https://www.sunsetdunespei.com/event/sunset-dunes-pei-hoa-board-meeting-30/
LOCATION:Zoom
END:VEVENT
BEGIN:VEVENT
DTSTART;TZID=America/Halifax:20241015T183000
DTEND;TZID=America/Halifax:20241015T203000
DTSTAMP:20260425T115045
CREATED:20240812T140822Z
LAST-MODIFIED:20240812T140822Z
UID:1575-1729017000-1729024200@www.sunsetdunespei.com
SUMMARY:Sunset Dunes PEI HOA Board Meeting
DESCRIPTION:
URL:https://www.sunsetdunespei.com/event/sunset-dunes-pei-hoa-board-meeting-31/
LOCATION:Zoom
END:VEVENT
BEGIN:VEVENT
DTSTART;TZID=America/Halifax:20241217T183000
DTEND;TZID=America/Halifax:20241217T203000
DTSTAMP:20260425T115045
CREATED:20240812T140901Z
LAST-MODIFIED:20240812T140901Z
UID:1577-1734460200-1734467400@www.sunsetdunespei.com
SUMMARY:Sunset Dunes PEI HOA Board Meeting
DESCRIPTION:
URL:https://www.sunsetdunespei.com/event/sunset-dunes-pei-hoa-board-meeting-32/
LOCATION:Zoom
END:VEVENT
BEGIN:VEVENT
DTSTART;TZID=America/Halifax:20250320T183000
DTEND;TZID=America/Halifax:20250320T203000
DTSTAMP:20260425T115045
CREATED:20240812T140952Z
LAST-MODIFIED:20250312T194151Z
UID:1579-1742495400-1742502600@www.sunsetdunespei.com
SUMMARY:Sunset Dunes PEI HOA Board Meeting
DESCRIPTION:
URL:https://www.sunsetdunespei.com/event/sunset-dunes-pei-hoa-board-meeting-33/
LOCATION:Zoom
END:VEVENT
BEGIN:VEVENT
DTSTART;TZID=America/Halifax:20250330T143000
DTEND;TZID=America/Halifax:20250330T160000
DTSTAMP:20260425T115045
CREATED:20250312T194317Z
LAST-MODIFIED:20250312T200324Z
UID:1638-1743345000-1743350400@www.sunsetdunespei.com
SUMMARY:Annual General Meeting
DESCRIPTION:
URL:https://www.sunsetdunespei.com/event/annual-general-meeting/
LOCATION:Zoom
END:VEVENT
BEGIN:VEVENT
DTSTART;TZID=America/Halifax:20250520T183000
DTEND;TZID=America/Halifax:20250520T203000
DTSTAMP:20260425T115045
CREATED:20240812T141033Z
LAST-MODIFIED:20250513T173032Z
UID:1581-1747765800-1747773000@www.sunsetdunespei.com
SUMMARY:Sunset Dunes PEI HOA Board Meeting
DESCRIPTION:
URL:https://www.sunsetdunespei.com/event/sunset-dunes-pei-hoa-board-meeting-34/
LOCATION:Zoom
END:VEVENT
BEGIN:VEVENT
DTSTART;TZID=America/Halifax:20250608T143000
DTEND;TZID=America/Halifax:20250608T153000
DTSTAMP:20260425T115045
CREATED:20250603T234202Z
LAST-MODIFIED:20250603T234202Z
UID:1651-1749393000-1749396600@www.sunsetdunespei.com
SUMMARY:Town Hall to Discuss Road Repairs
DESCRIPTION:
URL:https://www.sunsetdunespei.com/event/town-hall-to-discuss-road-repairs/
LOCATION:Zoom
END:VEVENT
BEGIN:VEVENT
DTSTART;TZID=America/Halifax:20250617T183000
DTEND;TZID=America/Halifax:20250617T203000
DTSTAMP:20260425T115045
CREATED:20240812T141112Z
LAST-MODIFIED:20240812T141112Z
UID:1583-1750185000-1750192200@www.sunsetdunespei.com
SUMMARY:Sunset Dunes PEI HOA Board Meeting
DESCRIPTION:
URL:https://www.sunsetdunespei.com/event/sunset-dunes-pei-hoa-board-meeting-35/
LOCATION:Zoom
END:VEVENT
BEGIN:VEVENT
DTSTART;TZID=America/Halifax:20250819T183000
DTEND;TZID=America/Halifax:20250819T203000
DTSTAMP:20260425T115045
CREATED:20240812T141150Z
LAST-MODIFIED:20250715T174800Z
UID:1585-1755628200-1755635400@www.sunsetdunespei.com
SUMMARY:Sunset Dunes PEI HOA Board Meeting
DESCRIPTION:
URL:https://www.sunsetdunespei.com/event/sunset-dunes-pei-hoa-board-meeting-36/
LOCATION:Zoom
END:VEVENT
BEGIN:VEVENT
DTSTART;TZID=America/Halifax:20251021T183000
DTEND;TZID=America/Halifax:20251021T203000
DTSTAMP:20260425T115045
CREATED:20240812T141241Z
LAST-MODIFIED:20240812T141241Z
UID:1587-1761071400-1761078600@www.sunsetdunespei.com
SUMMARY:Sunset Dunes PEI HOA Board Meeting
DESCRIPTION:
URL:https://www.sunsetdunespei.com/event/sunset-dunes-pei-hoa-board-meeting-37/
LOCATION:Zoom
END:VEVENT
BEGIN:VEVENT
DTSTART;TZID=America/Halifax:20251216T183000
DTEND;TZID=America/Halifax:20251216T203000
DTSTAMP:20260425T115045
CREATED:20240812T141335Z
LAST-MODIFIED:20240812T141335Z
UID:1589-1765909800-1765917000@www.sunsetdunespei.com
SUMMARY:Sunset Dunes PEI HOA Board Meeting
DESCRIPTION:
URL:https://www.sunsetdunespei.com/event/sunset-dunes-pei-hoa-board-meeting-38/
LOCATION:Zoom
END:VEVENT
BEGIN:VEVENT
DTSTART;TZID=UTC:20260110T080000
DTEND;TZID=UTC:20260124T170000
DTSTAMP:20260425T115045
CREATED:20251122T203138Z
LAST-MODIFIED:20260113T144311Z
UID:1687-1768032000-1769274000@www.sunsetdunespei.com
SUMMARY:AGM Nomination Period
DESCRIPTION:
URL:https://www.sunsetdunespei.com/event/agm-nomination-period/
END:VEVENT
BEGIN:VEVENT
DTSTART;TZID=America/Halifax:20260120T183000
DTEND;TZID=America/Halifax:20260120T203000
DTSTAMP:20260425T115045
CREATED:20251118T232257Z
LAST-MODIFIED:20251118T232257Z
UID:1675-1768933800-1768941000@www.sunsetdunespei.com
SUMMARY:Sunset Dunes PEI HOA Board Meeting
DESCRIPTION:
URL:https://www.sunsetdunespei.com/event/sunset-dunes-pei-hoa-board-meeting-40/
LOCATION:Zoom
END:VEVENT
BEGIN:VEVENT
DTSTART;TZID=UTC:20260124T080000
DTEND;TZID=UTC:20260131T170000
DTSTAMP:20260425T115045
CREATED:20251122T203101Z
LAST-MODIFIED:20260113T144235Z
UID:1685-1769241600-1769878800@www.sunsetdunespei.com
SUMMARY:AGM Campaign Period
DESCRIPTION:
URL:https://www.sunsetdunespei.com/event/agm-campaign-period/
END:VEVENT
BEGIN:VEVENT
DTSTART;VALUE=DATE:20260131
DTEND;VALUE=DATE:20260201
DTSTAMP:20260425T115045
CREATED:20251122T202924Z
LAST-MODIFIED:20251122T202924Z
UID:1681-1769817600-1769903999@www.sunsetdunespei.com
SUMMARY:AGM Proposals due
DESCRIPTION:
URL:https://www.sunsetdunespei.com/event/agm-proposals-due/
END:VEVENT
BEGIN:VEVENT
DTSTART;TZID=UTC:20260131T080000
DTEND;TZID=UTC:20260214T170000
DTSTAMP:20260425T115045
CREATED:20251122T203006Z
LAST-MODIFIED:20260113T144205Z
UID:1683-1769846400-1771088400@www.sunsetdunespei.com
SUMMARY:AGM Voting Period
DESCRIPTION:
URL:https://www.sunsetdunespei.com/event/agm-voting-period/
END:VEVENT
BEGIN:VEVENT
DTSTART;TZID=America/Halifax:20260222T150000
DTEND;TZID=America/Halifax:20260222T203000
DTSTAMP:20260425T115045
CREATED:20240812T141431Z
LAST-MODIFIED:20260114T153402Z
UID:1591-1771772400-1771792200@www.sunsetdunespei.com
SUMMARY:Sunset Dunes PEI HOA AGM Meeting
DESCRIPTION:
URL:https://www.sunsetdunespei.com/event/sunset-dunes-pei-hoa-board-meeting-39/
LOCATION:Zoom
END:VEVENT
BEGIN:VEVENT
DTSTART;TZID=America/Halifax:20260324T183000
DTEND;TZID=America/Halifax:20260324T203000
DTSTAMP:20260425T115045
CREATED:20260123T232715Z
LAST-MODIFIED:20260404T144229Z
UID:1701-1774377000-1774384200@www.sunsetdunespei.com
SUMMARY:Sunset Dunes PEI HOA Board Meeting
DESCRIPTION:
URL:https://www.sunsetdunespei.com/event/sunset-dunes-pei-hoa-board-meeting-41/
LOCATION:Zoom
END:VEVENT
BEGIN:VEVENT
DTSTART;TZID=America/Halifax:20260526T183000
DTEND;TZID=America/Halifax:20260526T203000
DTSTAMP:20260425T115045
CREATED:20260404T144336Z
LAST-MODIFIED:20260404T144336Z
UID:1731-1779820200-1779827400@www.sunsetdunespei.com
SUMMARY:Sunset Dunes PEI HOA Board Meeting
DESCRIPTION:
URL:https://www.sunsetdunespei.com/event/sunset-dunes-pei-hoa-board-meeting-42/
LOCATION:Zoom
END:VEVENT
BEGIN:VEVENT
DTSTART;TZID=America/Halifax:20260728T183000
DTEND;TZID=America/Halifax:20260728T203000
DTSTAMP:20260425T115045
CREATED:20260404T144443Z
LAST-MODIFIED:20260404T144443Z
UID:1733-1785263400-1785270600@www.sunsetdunespei.com
SUMMARY:Sunset Dunes PEI HOA Board Meeting
DESCRIPTION:
URL:https://www.sunsetdunespei.com/event/sunset-dunes-pei-hoa-board-meeting-43/
END:VEVENT
BEGIN:VEVENT
DTSTART;TZID=America/Halifax:20260929T183000
DTEND;TZID=America/Halifax:20260929T203000
DTSTAMP:20260425T115045
CREATED:20260404T144526Z
LAST-MODIFIED:20260404T144526Z
UID:1735-1790706600-1790713800@www.sunsetdunespei.com
SUMMARY:Sunset Dunes PEI HOA Board Meeting
DESCRIPTION:
URL:https://www.sunsetdunespei.com/event/sunset-dunes-pei-hoa-board-meeting-44/
END:VEVENT
BEGIN:VEVENT
DTSTART;TZID=America/Halifax:20261124T183000
DTEND;TZID=America/Halifax:20261124T203000
DTSTAMP:20260425T115045
CREATED:20260404T144609Z
LAST-MODIFIED:20260404T144609Z
UID:1737-1795545000-1795552200@www.sunsetdunespei.com
SUMMARY:Sunset Dunes PEI HOA Board Meeting
DESCRIPTION:
URL:https://www.sunsetdunespei.com/event/sunset-dunes-pei-hoa-board-meeting-45/
END:VEVENT
END:VCALENDAR