BEGIN:VCALENDAR
VERSION:2.0
PRODID:-//Sunset Dunes PEI HOA - ECPv5.6.0//NONSGML v1.0//EN
CALSCALE:GREGORIAN
METHOD:PUBLISH
X-WR-CALNAME:Sunset Dunes PEI HOA
X-ORIGINAL-URL:https://www.sunsetdunespei.com
X-WR-CALDESC:Events for Sunset Dunes PEI HOA
BEGIN:VTIMEZONE
TZID:America/Halifax
BEGIN:DAYLIGHT
TZOFFSETFROM:-0400
TZOFFSETTO:-0300
TZNAME:ADT
DTSTART:20250309T060000
END:DAYLIGHT
BEGIN:STANDARD
TZOFFSETFROM:-0300
TZOFFSETTO:-0400
TZNAME:AST
DTSTART:20251102T050000
END:STANDARD
END:VTIMEZONE
BEGIN:VEVENT
DTSTART;TZID=America/Halifax:20250608T143000
DTEND;TZID=America/Halifax:20250608T153000
DTSTAMP:20260422T173304
CREATED:20250603T234202Z
LAST-MODIFIED:20250603T234202Z
UID:1651-1749393000-1749396600@www.sunsetdunespei.com
SUMMARY:Town Hall to Discuss Road Repairs
DESCRIPTION:
URL:https://www.sunsetdunespei.com/event/town-hall-to-discuss-road-repairs/
LOCATION:Zoom
END:VEVENT
END:VCALENDAR