BEGIN:VCALENDAR
VERSION:2.0
PRODID:-//Sunset Dunes PEI HOA - ECPv5.6.0//NONSGML v1.0//EN
CALSCALE:GREGORIAN
METHOD:PUBLISH
X-WR-CALNAME:Sunset Dunes PEI HOA
X-ORIGINAL-URL:https://www.sunsetdunespei.com
X-WR-CALDESC:Events for Sunset Dunes PEI HOA
BEGIN:VTIMEZONE
TZID:America/Halifax
BEGIN:DAYLIGHT
TZOFFSETFROM:-0400
TZOFFSETTO:-0300
TZNAME:ADT
DTSTART:20250309T060000
END:DAYLIGHT
BEGIN:STANDARD
TZOFFSETFROM:-0300
TZOFFSETTO:-0400
TZNAME:AST
DTSTART:20251102T050000
END:STANDARD
END:VTIMEZONE
BEGIN:VEVENT
DTSTART;TZID=America/Halifax:20250330T143000
DTEND;TZID=America/Halifax:20250330T160000
DTSTAMP:20260424T082019
CREATED:20250312T194317Z
LAST-MODIFIED:20250312T200324Z
UID:1638-1743345000-1743350400@www.sunsetdunespei.com
SUMMARY:Annual General Meeting
DESCRIPTION:
URL:https://www.sunsetdunespei.com/event/annual-general-meeting/
LOCATION:Zoom
END:VEVENT
END:VCALENDAR